BEGIN:VCALENDAR
VERSION:2.0
PRODID:-//Salwey Aktiv - Nieder- und Obersalweyer Dorfgemeinschaft//NONSGML kigkonsult.se iCalcreator 2.41.92//
CALSCALE:GREGORIAN
METHOD:PUBLISH
UID:62303239-6133-4165-b836-366461346437
X-WR-CALNAME:iCagenda
X-WR-CALDESC:Event Management Extension for Joomla!
X-WR-RELCALID:3E26604A-50F4-4449-8B3E-E4F4932D05B5
X-WR-TIMEZONE:Europe/Berlin
BEGIN:VTIMEZONE
TZID:Europe/Berlin
TZUNTIL:20271031T010000Z
BEGIN:STANDARD
TZNAME:CET
DTSTART:20251026T030000
TZOFFSETFROM:+0200
TZOFFSETTO:+0100
RDATE:20261025T030000
END:STANDARD
BEGIN:DAYLIGHT
TZNAME:CEST
DTSTART:20250330T020000
TZOFFSETFROM:+0100
TZOFFSETTO:+0200
RDATE:20260329T020000
RDATE:20270328T020000
END:DAYLIGHT
END:VTIMEZONE
BEGIN:VEVENT
UID:34643464-3735-4263-b435-643437386633
DTSTAMP:20260422T083610Z
CATEGORIES:KFD Salwey
CLASS:PUBLIC
DESCRIPTION:
DTSTART:20260212T081100Z
DTEND:20260212T081100Z
GEO:00;0
LOCATION:Alte Schulte N´Salwey
ORGANIZER:
SEQUENCE:1
SUMMARY:Karnevalsfrühstück der kfd
TRANSP:OPAQUE
URL:https://www.salwey-aktiv.de/alles-auf-einen-blick/veranstaltungen/veran
 staltungen-in-salwey/182-karnevalsfruehstueck-der-kfd-2/2026-02-12-09-11
END:VEVENT
END:VCALENDAR
