BEGIN:VCALENDAR
VERSION:2.0
PRODID:-//Salwey Aktiv - Nieder- und Obersalweyer Dorfgemeinschaft//NONSGML kigkonsult.se iCalcreator 2.41.92//
CALSCALE:GREGORIAN
METHOD:PUBLISH
UID:33356432-3439-4330-a434-626232356431
X-WR-CALNAME:iCagenda
X-WR-CALDESC:Event Management Extension for Joomla!
X-WR-RELCALID:3E26604A-50F4-4449-8B3E-E4F4932D05B5
X-WR-TIMEZONE:Europe/Berlin
BEGIN:VTIMEZONE
TZID:Europe/Berlin
TZUNTIL:20280326T010000Z
BEGIN:STANDARD
TZNAME:CET
DTSTART:20251026T030000
TZOFFSETFROM:+0200
TZOFFSETTO:+0100
RDATE:20261025T030000
RDATE:20271031T030000
END:STANDARD
BEGIN:DAYLIGHT
TZNAME:CEST
DTSTART:20260329T020000
TZOFFSETFROM:+0100
TZOFFSETTO:+0200
RDATE:20270328T020000
END:DAYLIGHT
END:VTIMEZONE
BEGIN:VEVENT
UID:33653835-6537-4235-b739-303138356661
DTSTAMP:20260425T131908Z
CATEGORIES:Heimat- und Förderverein Salwey e.V.
CLASS:PUBLIC
DESCRIPTION:
DTSTART:20260509T080000Z
DTEND:20260509T080000Z
GEO:00;0
LOCATION:Treffpunkt Dorfplatz N´salwey
ORGANIZER:
SEQUENCE:1
SUMMARY:Dorfplatzreinigung des HVF
TRANSP:OPAQUE
URL:https://www.salwey-aktiv.de/alles-auf-einen-blick/veranstaltungen/veran
 staltungen-in-salwey/244-dorfplatzreinigung-des-hvf/2026-05-09-10-00?layou
 t=vcal
END:VEVENT
END:VCALENDAR
